Package: geneplotter Version: 1.84.0 Command: /home/biocbuild/bbs-3.20-bioc/R/bin/R CMD build --keep-empty-dirs --no-resave-data --md5 geneplotter StartedAt: 2025-03-31 17:21:33 -0400 (Mon, 31 Mar 2025) EndedAt: 2025-03-31 17:21:56 -0400 (Mon, 31 Mar 2025) EllapsedTime: 23.0 seconds RetCode: 0 Status: OK PackageFile: geneplotter_1.84.0.tar.gz PackageFileSize: 1.638 MiB