Package: geneplast Version: 1.32.0 Command: chmod a+r geneplast -R && F:\biocbuild\bbs-3.20-bioc\R\bin\R.exe CMD build --keep-empty-dirs --no-resave-data geneplast StartedAt: 2025-03-31 19:09:27 -0400 (Mon, 31 Mar 2025) EndedAt: 2025-03-31 19:10:22 -0400 (Mon, 31 Mar 2025) EllapsedTime: 54.9 seconds RetCode: 0 Status: OK PackageFile: geneplast_1.32.0.tar.gz PackageFileSize: 7.073 MiB