Package: geneplast Version: 1.32.0 Command: /Library/Frameworks/R.framework/Resources/bin/R CMD check --install=check:geneplast.install-out.txt --library=/Library/Frameworks/R.framework/Resources/library --no-vignettes --timings geneplast_1.32.0.tar.gz StartedAt: 2025-04-01 03:23:26 -0400 (Tue, 01 Apr 2025) EndedAt: 2025-04-01 03:24:58 -0400 (Tue, 01 Apr 2025) EllapsedTime: 92.2 seconds RetCode: 0 Status: OK CheckDir: geneplast.Rcheck Warnings: 0