Package: genefu Version: 2.38.0 Command: /home/biocbuild/bbs-3.20-bioc/R/bin/R CMD INSTALL genefu StartedAt: 2025-03-31 16:00:55 -0400 (Mon, 31 Mar 2025) EndedAt: 2025-03-31 16:01:17 -0400 (Mon, 31 Mar 2025) EllapsedTime: 22.6 seconds RetCode: 0 Status: OK