Package: genefu Version: 2.38.0 Command: /Library/Frameworks/R.framework/Resources/bin/R CMD check --install=check:genefu.install-out.txt --library=/Library/Frameworks/R.framework/Resources/library --no-vignettes --timings genefu_2.38.0.tar.gz StartedAt: 2025-04-01 19:58:23 -0400 (Tue, 01 Apr 2025) EndedAt: 2025-04-01 20:00:39 -0400 (Tue, 01 Apr 2025) EllapsedTime: 136.2 seconds RetCode: 1 Status: ERROR CheckDir: genefu.Rcheck Warnings: NA