Package: geneXtendeR Version: 1.32.0 Command: /home/biocbuild/R/R/bin/R CMD INSTALL geneXtendeR StartedAt: 2025-03-31 20:44:38 -0000 (Mon, 31 Mar 2025) EndedAt: 2025-03-31 20:45:37 -0000 (Mon, 31 Mar 2025) EllapsedTime: 59.1 seconds RetCode: 0 Status: OK