Package: geneXtendeR Version: 1.32.0 Command: /home/biocbuild/R/R/bin/R CMD build --keep-empty-dirs --no-resave-data geneXtendeR StartedAt: 2025-03-31 23:40:59 -0000 (Mon, 31 Mar 2025) EndedAt: 2025-03-31 23:41:03 -0000 (Mon, 31 Mar 2025) EllapsedTime: 4.0 seconds RetCode: 0 Status: OK PackageFile: geneXtendeR_1.32.0.tar.gz PackageFileSize: 11.74 MiB