Package: geneXtendeR Version: 1.32.0 Command: /Library/Frameworks/R.framework/Resources/bin/R CMD INSTALL geneXtendeR StartedAt: 2025-03-31 16:45:12 -0400 (Mon, 31 Mar 2025) EndedAt: 2025-03-31 16:46:11 -0400 (Mon, 31 Mar 2025) EllapsedTime: 59.1 seconds RetCode: 0 Status: OK