Package: geneRxCluster Version: 1.42.0 Command: /Library/Frameworks/R.framework/Resources/bin/R CMD check --install=check:geneRxCluster.install-out.txt --library=/Library/Frameworks/R.framework/Resources/library --no-vignettes --timings geneRxCluster_1.42.0.tar.gz StartedAt: 2025-04-01 03:24:58 -0400 (Tue, 01 Apr 2025) EndedAt: 2025-04-01 03:27:29 -0400 (Tue, 01 Apr 2025) EllapsedTime: 150.9 seconds RetCode: 0 Status: OK CheckDir: geneRxCluster.Rcheck Warnings: 0