Package: geneAttribution Version: 1.32.0 Command: /home/biocbuild/R/R/bin/R CMD build --keep-empty-dirs --no-resave-data geneAttribution StartedAt: 2025-03-31 23:38:28 -0000 (Mon, 31 Mar 2025) EndedAt: 2025-03-31 23:39:10 -0000 (Mon, 31 Mar 2025) EllapsedTime: 42.0 seconds RetCode: 0 Status: OK PackageFile: geneAttribution_1.32.0.tar.gz PackageFileSize: 39.81 KiB