Package: geneAttribution Version: 1.32.0 Command: /Library/Frameworks/R.framework/Resources/bin/R CMD INSTALL geneAttribution StartedAt: 2025-03-31 15:33:49 -0400 (Mon, 31 Mar 2025) EndedAt: 2025-03-31 15:34:51 -0400 (Mon, 31 Mar 2025) EllapsedTime: 62.6 seconds RetCode: 0 Status: OK