Package: genArise Version: 1.82.0 Command: /home/biocbuild/R/R/bin/R CMD INSTALL genArise StartedAt: 2025-03-31 20:14:57 -0000 (Mon, 31 Mar 2025) EndedAt: 2025-03-31 20:15:31 -0000 (Mon, 31 Mar 2025) EllapsedTime: 34.0 seconds RetCode: 0 Status: OK