Package: genArise Version: 1.82.0 Command: /Library/Frameworks/R.framework/Resources/bin/R CMD INSTALL genArise StartedAt: 2025-03-31 15:07:54 -0400 (Mon, 31 Mar 2025) EndedAt: 2025-03-31 15:08:27 -0400 (Mon, 31 Mar 2025) EllapsedTime: 33.5 seconds RetCode: 0 Status: OK