Package: genArise Version: 1.82.0 Command: /Library/Frameworks/R.framework/Resources/bin/R CMD check --install=check:genArise.install-out.txt --library=/Library/Frameworks/R.framework/Resources/library --no-vignettes --timings genArise_1.82.0.tar.gz StartedAt: 2025-04-01 19:55:04 -0400 (Tue, 01 Apr 2025) EndedAt: 2025-04-01 19:55:49 -0400 (Tue, 01 Apr 2025) EllapsedTime: 45.1 seconds RetCode: 0 Status: WARNINGS CheckDir: genArise.Rcheck Warnings: 1