Package: gemma.R Version: 3.2.1 Command: /home/biocbuild/R/R/bin/R CMD build --keep-empty-dirs --no-resave-data gemma.R StartedAt: 2025-03-31 23:38:17 -0000 (Mon, 31 Mar 2025) EndedAt: 2025-03-31 23:44:30 -0000 (Mon, 31 Mar 2025) EllapsedTime: 373.3 seconds RetCode: 1 Status: ERROR PackageFile: None PackageFileSize: NA