Package: gdsfmt Version: 1.42.1 Command: /home/biocbuild/R/R/bin/R CMD check --install=check:gdsfmt.install-out.txt --library=/home/biocbuild/R/R/site-library --no-vignettes --timings gdsfmt_1.42.1.tar.gz StartedAt: 2025-04-01 06:41:28 -0000 (Tue, 01 Apr 2025) EndedAt: 2025-04-01 06:44:05 -0000 (Tue, 01 Apr 2025) EllapsedTime: 157.1 seconds RetCode: 0 Status: WARNINGS CheckDir: gdsfmt.Rcheck Warnings: 1