Package: gdsfmt Version: 1.42.1 Command: F:\biocbuild\bbs-3.20-bioc\R\bin\R.exe CMD INSTALL gdsfmt StartedAt: 2025-03-31 15:20:50 -0400 (Mon, 31 Mar 2025) EndedAt: 2025-03-31 15:26:35 -0400 (Mon, 31 Mar 2025) EllapsedTime: 344.4 seconds RetCode: 0 Status: OK