Package: gdsfmt Version: 1.42.1 Command: rm -rf gdsfmt.buildbin-libdir && mkdir gdsfmt.buildbin-libdir && F:\biocbuild\bbs-3.20-bioc\R\bin\R.exe CMD INSTALL --build --library=gdsfmt.buildbin-libdir gdsfmt_1.42.1.tar.gz StartedAt: 2025-04-01 08:14:21 -0400 (Tue, 01 Apr 2025) EndedAt: 2025-04-01 08:18:07 -0400 (Tue, 01 Apr 2025) EllapsedTime: 225.9 seconds RetCode: 0 Status: OK PackageFile: gdsfmt_1.42.1.zip PackageFileSize: 1.805 MiB