Package: gdsfmt Version: 1.42.1 Command: /Library/Frameworks/R.framework/Resources/bin/R CMD INSTALL gdsfmt StartedAt: 2025-03-31 15:03:48 -0400 (Mon, 31 Mar 2025) EndedAt: 2025-03-31 15:08:09 -0400 (Mon, 31 Mar 2025) EllapsedTime: 260.4 seconds RetCode: 0 Status: OK