Package: gcrma Version: 2.78.0 Command: chmod a+r gcrma -R && F:\biocbuild\bbs-3.20-bioc\R\bin\R.exe CMD build --keep-empty-dirs --no-resave-data gcrma StartedAt: 2025-03-31 19:06:32 -0400 (Mon, 31 Mar 2025) EndedAt: 2025-03-31 19:06:59 -0400 (Mon, 31 Mar 2025) EllapsedTime: 26.5 seconds RetCode: 0 Status: OK PackageFile: gcrma_2.78.0.tar.gz PackageFileSize: 150.3 KiB