Package: gcatest Version: 2.6.0 Command: chmod a+r gcatest -R && F:\biocbuild\bbs-3.20-bioc\R\bin\R.exe CMD build --keep-empty-dirs --no-resave-data gcatest StartedAt: 2025-03-31 19:06:14 -0400 (Mon, 31 Mar 2025) EndedAt: 2025-03-31 19:07:00 -0400 (Mon, 31 Mar 2025) EllapsedTime: 45.7 seconds RetCode: 0 Status: OK PackageFile: gcatest_2.6.0.tar.gz PackageFileSize: 2.147 MiB