Package: gcatest Version: 2.6.0 Command: /Library/Frameworks/R.framework/Resources/bin/R CMD INSTALL gcatest StartedAt: 2025-03-31 15:11:31 -0400 (Mon, 31 Mar 2025) EndedAt: 2025-03-31 15:11:37 -0400 (Mon, 31 Mar 2025) EllapsedTime: 5.7 seconds RetCode: 0 Status: OK