Package: gcatest Version: 2.6.0 Command: /Library/Frameworks/R.framework/Resources/bin/R CMD check --install=check:gcatest.install-out.txt --library=/Library/Frameworks/R.framework/Resources/library --no-vignettes --timings gcatest_2.6.0.tar.gz StartedAt: 2025-04-01 19:44:22 -0400 (Tue, 01 Apr 2025) EndedAt: 2025-04-01 19:45:05 -0400 (Tue, 01 Apr 2025) EllapsedTime: 42.7 seconds RetCode: 0 Status: OK CheckDir: gcatest.Rcheck Warnings: 0