Package: gcapc Version: 1.30.0 Command: rm -rf gcapc.buildbin-libdir && mkdir gcapc.buildbin-libdir && /Users/biocbuild/BBS/utils/build-universal.sh gcapc_1.30.0.tar.gz /Library/Frameworks/R.framework/Resources/bin/R gcapc.buildbin-libdir StartedAt: 2025-04-02 14:25:57 -0400 (Wed, 02 Apr 2025) EndedAt: 2025-04-02 14:26:39 -0400 (Wed, 02 Apr 2025) EllapsedTime: 41.9 seconds RetCode: 0 Status: OK PackageFile: gcapc_1.30.0.tgz PackageFileSize: 3.868 MiB