Package: gaga Version: 2.52.0 Command: /Library/Frameworks/R.framework/Resources/bin/R CMD INSTALL gaga StartedAt: 2025-03-31 15:10:20 -0400 (Mon, 31 Mar 2025) EndedAt: 2025-03-31 15:10:45 -0400 (Mon, 31 Mar 2025) EllapsedTime: 24.9 seconds RetCode: 0 Status: OK