Package: gaga Version: 2.52.0 Command: /Library/Frameworks/R.framework/Resources/bin/R CMD build --keep-empty-dirs --no-resave-data gaga StartedAt: 2025-03-31 18:49:02 -0400 (Mon, 31 Mar 2025) EndedAt: 2025-03-31 18:49:53 -0400 (Mon, 31 Mar 2025) EllapsedTime: 50.6 seconds RetCode: 0 Status: OK PackageFile: gaga_2.52.0.tar.gz PackageFileSize: 570.2 KiB