Package: gDRutils Version: 1.4.10 Command: /Library/Frameworks/R.framework/Resources/bin/R CMD build --keep-empty-dirs --no-resave-data gDRutils StartedAt: 2025-03-31 18:51:28 -0400 (Mon, 31 Mar 2025) EndedAt: 2025-03-31 18:52:39 -0400 (Mon, 31 Mar 2025) EllapsedTime: 71.7 seconds RetCode: 0 Status: OK PackageFile: gDRutils_1.4.10.tar.gz PackageFileSize: 328.5 KiB