Package: gDRutils Version: 1.4.10 Command: /Library/Frameworks/R.framework/Resources/bin/R CMD build --keep-empty-dirs --no-resave-data gDRutils StartedAt: 2025-03-31 23:52:04 -0400 (Mon, 31 Mar 2025) EndedAt: 2025-03-31 23:52:45 -0400 (Mon, 31 Mar 2025) EllapsedTime: 40.8 seconds RetCode: 0 Status: OK PackageFile: gDRutils_1.4.10.tar.gz PackageFileSize: 328.6 KiB