Package: gDRutils Version: 1.4.10 Command: rm -rf gDRutils.buildbin-libdir && mkdir gDRutils.buildbin-libdir && /Users/biocbuild/BBS/utils/build-universal.sh gDRutils_1.4.10.tar.gz /Library/Frameworks/R.framework/Resources/bin/R gDRutils.buildbin-libdir StartedAt: 2025-04-02 14:26:58 -0400 (Wed, 02 Apr 2025) EndedAt: 2025-04-02 14:27:28 -0400 (Wed, 02 Apr 2025) EllapsedTime: 29.6 seconds RetCode: 0 Status: OK PackageFile: gDRutils_1.4.10.tgz PackageFileSize: 636.2 KiB