Package: gDRstyle Version: 1.4.3 Command: /home/biocbuild/R/R/bin/R CMD check --install=check:gDRstyle.install-out.txt --library=/home/biocbuild/R/R/site-library --no-vignettes --timings gDRstyle_1.4.3.tar.gz StartedAt: 2025-04-01 06:40:30 -0000 (Tue, 01 Apr 2025) EndedAt: 2025-04-01 06:41:28 -0000 (Tue, 01 Apr 2025) EllapsedTime: 58.0 seconds RetCode: 0 Status: WARNINGS CheckDir: gDRstyle.Rcheck Warnings: 1