Package: gDRstyle Version: 1.4.3 Command: /home/biocbuild/R/R/bin/R CMD build --keep-empty-dirs --no-resave-data gDRstyle StartedAt: 2025-03-31 23:37:48 -0000 (Mon, 31 Mar 2025) EndedAt: 2025-03-31 23:37:56 -0000 (Mon, 31 Mar 2025) EllapsedTime: 8.0 seconds RetCode: 0 Status: OK PackageFile: gDRstyle_1.4.3.tar.gz PackageFileSize: 729.8 KiB