Package: gDRstyle Version: 1.4.3 Command: F:\biocbuild\bbs-3.20-bioc\R\bin\R.exe CMD check --no-multiarch --install=check:gDRstyle.install-out.txt --library=F:\biocbuild\bbs-3.20-bioc\R\library --no-vignettes --timings gDRstyle_1.4.3.tar.gz StartedAt: 2025-04-01 01:45:22 -0400 (Tue, 01 Apr 2025) EndedAt: 2025-04-01 01:47:03 -0400 (Tue, 01 Apr 2025) EllapsedTime: 101.6 seconds RetCode: 0 Status: WARNINGS CheckDir: gDRstyle.Rcheck Warnings: 1