Package: gDRstyle Version: 1.4.3 Command: /home/biocbuild/bbs-3.20-bioc/R/bin/R CMD build --keep-empty-dirs --no-resave-data --md5 gDRstyle StartedAt: 2025-03-31 17:20:11 -0400 (Mon, 31 Mar 2025) EndedAt: 2025-03-31 17:20:17 -0400 (Mon, 31 Mar 2025) EllapsedTime: 6.0 seconds RetCode: 0 Status: OK PackageFile: gDRstyle_1.4.3.tar.gz PackageFileSize: 599.8 KiB