Package: gDRstyle Version: 1.4.3 Command: rm -rf gDRstyle.buildbin-libdir && mkdir gDRstyle.buildbin-libdir && /Users/biocbuild/BBS/utils/build-universal.sh gDRstyle_1.4.3.tar.gz /Library/Frameworks/R.framework/Resources/bin/R gDRstyle.buildbin-libdir StartedAt: 2025-04-01 11:55:05 -0400 (Tue, 01 Apr 2025) EndedAt: 2025-04-01 11:55:14 -0400 (Tue, 01 Apr 2025) EllapsedTime: 8.7 seconds RetCode: 0 Status: OK PackageFile: gDRstyle_1.4.3.tgz PackageFileSize: 659.5 KiB