Package: gDRimport Version: 1.4.6 Command: /home/biocbuild/R/R/bin/R CMD INSTALL gDRimport StartedAt: 2025-03-31 21:06:34 -0000 (Mon, 31 Mar 2025) EndedAt: 2025-03-31 21:07:06 -0000 (Mon, 31 Mar 2025) EllapsedTime: 31.8 seconds RetCode: 0 Status: OK