Package: gDRimport Version: 1.4.6 Command: F:\biocbuild\bbs-3.20-bioc\R\bin\R.exe CMD check --no-multiarch --install=check:gDRimport.install-out.txt --library=F:\biocbuild\bbs-3.20-bioc\R\library --no-vignettes --timings gDRimport_1.4.6.tar.gz StartedAt: 2025-04-01 01:45:18 -0400 (Tue, 01 Apr 2025) EndedAt: 2025-04-01 01:49:02 -0400 (Tue, 01 Apr 2025) EllapsedTime: 224.0 seconds RetCode: 0 Status: OK CheckDir: gDRimport.Rcheck Warnings: 0