Package: gDRimport Version: 1.4.6 Command: chmod a+r gDRimport -R && F:\biocbuild\bbs-3.20-bioc\R\bin\R.exe CMD build --keep-empty-dirs --no-resave-data gDRimport StartedAt: 2025-03-31 19:07:00 -0400 (Mon, 31 Mar 2025) EndedAt: 2025-03-31 19:08:22 -0400 (Mon, 31 Mar 2025) EllapsedTime: 82.3 seconds RetCode: 0 Status: OK PackageFile: gDRimport_1.4.6.tar.gz PackageFileSize: 3.008 MiB