Package: gDRimport Version: 1.4.6 Command: /home/biocbuild/bbs-3.20-bioc/R/bin/R CMD check --install=check:gDRimport.install-out.txt --library=/home/biocbuild/bbs-3.20-bioc/R/site-library --timings gDRimport_1.4.6.tar.gz StartedAt: 2025-03-31 22:20:11 -0400 (Mon, 31 Mar 2025) EndedAt: 2025-03-31 22:23:48 -0400 (Mon, 31 Mar 2025) EllapsedTime: 217.2 seconds RetCode: 0 Status: OK CheckDir: gDRimport.Rcheck Warnings: 0