Package: gDRimport Version: 1.4.6 Command: /Library/Frameworks/R.framework/Resources/bin/R CMD build --keep-empty-dirs --no-resave-data gDRimport StartedAt: 2025-03-31 23:51:36 -0400 (Mon, 31 Mar 2025) EndedAt: 2025-03-31 23:52:32 -0400 (Mon, 31 Mar 2025) EllapsedTime: 56.7 seconds RetCode: 0 Status: OK PackageFile: gDRimport_1.4.6.tar.gz PackageFileSize: 3.008 MiB