Package: gDRimport Version: 1.4.6 Command: rm -rf gDRimport.buildbin-libdir && mkdir gDRimport.buildbin-libdir && /Users/biocbuild/BBS/utils/build-universal.sh gDRimport_1.4.6.tar.gz /Library/Frameworks/R.framework/Resources/bin/R gDRimport.buildbin-libdir StartedAt: 2025-04-02 14:26:49 -0400 (Wed, 02 Apr 2025) EndedAt: 2025-04-02 14:27:21 -0400 (Wed, 02 Apr 2025) EllapsedTime: 31.8 seconds RetCode: 0 Status: OK PackageFile: gDRimport_1.4.6.tgz PackageFileSize: 3.325 MiB