Package: gDRcore Version: 1.4.4 Command: F:\biocbuild\bbs-3.20-bioc\R\bin\R.exe CMD check --no-multiarch --install=check:gDRcore.install-out.txt --library=F:\biocbuild\bbs-3.20-bioc\R\library --no-vignettes --timings gDRcore_1.4.4.tar.gz StartedAt: 2025-04-01 01:45:11 -0400 (Tue, 01 Apr 2025) EndedAt: 2025-04-01 01:52:09 -0400 (Tue, 01 Apr 2025) EllapsedTime: 418.5 seconds RetCode: 0 Status: OK CheckDir: gDRcore.Rcheck Warnings: 0