Package: gDRcore Version: 1.4.0 Command: /home/biocbuild/R/R/bin/R CMD INSTALL gDRcore StartedAt: 2024-11-19 21:15:28 -0000 (Tue, 19 Nov 2024) EndedAt: 2024-11-19 21:15:50 -0000 (Tue, 19 Nov 2024) EllapsedTime: 21.7 seconds RetCode: 0 Status: OK