Package: gDRcore Version: 1.4.0 Command: /home/biocbuild/R/R/bin/R CMD build --keep-empty-dirs --no-resave-data gDRcore StartedAt: 2024-11-20 00:50:26 -0000 (Wed, 20 Nov 2024) EndedAt: 2024-11-20 00:51:02 -0000 (Wed, 20 Nov 2024) EllapsedTime: 35.0 seconds RetCode: 1 Status: ERROR PackageFile: None PackageFileSize: NA