Package: gDRcore Version: 1.4.4 Command: /Library/Frameworks/R.framework/Resources/bin/R CMD build --keep-empty-dirs --no-resave-data gDRcore StartedAt: 2025-03-31 23:51:33 -0400 (Mon, 31 Mar 2025) EndedAt: 2025-03-31 23:52:21 -0400 (Mon, 31 Mar 2025) EllapsedTime: 47.9 seconds RetCode: 0 Status: OK PackageFile: gDRcore_1.4.4.tar.gz PackageFileSize: 1.09 MiB