Package: gDRcore Version: 1.4.4 Command: rm -rf gDRcore.buildbin-libdir && mkdir gDRcore.buildbin-libdir && /Users/biocbuild/BBS/utils/build-universal.sh gDRcore_1.4.4.tar.gz /Library/Frameworks/R.framework/Resources/bin/R gDRcore.buildbin-libdir StartedAt: 2025-04-02 14:26:39 -0400 (Wed, 02 Apr 2025) EndedAt: 2025-04-02 14:27:01 -0400 (Wed, 02 Apr 2025) EllapsedTime: 21.7 seconds RetCode: 0 Status: OK PackageFile: gDRcore_1.4.4.tgz PackageFileSize: 1.277 MiB