Package: gDR Version: 1.4.1 Command: /home/biocbuild/R/R/bin/R CMD INSTALL gDR StartedAt: 2025-03-31 21:07:06 -0000 (Mon, 31 Mar 2025) EndedAt: 2025-03-31 21:07:37 -0000 (Mon, 31 Mar 2025) EllapsedTime: 30.2 seconds RetCode: 0 Status: OK