Package: gDR Version: 1.4.1 Command: /home/biocbuild/R/R/bin/R CMD build --keep-empty-dirs --no-resave-data gDR StartedAt: 2025-03-31 23:36:56 -0000 (Mon, 31 Mar 2025) EndedAt: 2025-03-31 23:38:00 -0000 (Mon, 31 Mar 2025) EllapsedTime: 64.0 seconds RetCode: 0 Status: OK PackageFile: gDR_1.4.1.tar.gz PackageFileSize: 299.6 KiB