Package: gDR Version: 1.4.1 Command: /home/biocbuild/bbs-3.20-bioc/R/bin/R CMD INSTALL gDR StartedAt: 2025-03-31 15:56:33 -0400 (Mon, 31 Mar 2025) EndedAt: 2025-03-31 15:56:57 -0400 (Mon, 31 Mar 2025) EllapsedTime: 24.2 seconds RetCode: 0 Status: OK