Package: gDR Version: 1.4.1 Command: /home/biocbuild/bbs-3.20-bioc/R/bin/R CMD check --install=check:gDR.install-out.txt --library=/home/biocbuild/bbs-3.20-bioc/R/site-library --timings gDR_1.4.1.tar.gz StartedAt: 2025-03-31 22:19:28 -0400 (Mon, 31 Mar 2025) EndedAt: 2025-03-31 22:22:43 -0400 (Mon, 31 Mar 2025) EllapsedTime: 195.2 seconds RetCode: 0 Status: OK CheckDir: gDR.Rcheck Warnings: 0