Package: gDR Version: 1.4.1 Command: /home/biocbuild/bbs-3.20-bioc/R/bin/R CMD build --keep-empty-dirs --no-resave-data --md5 gDR StartedAt: 2025-03-31 17:20:07 -0400 (Mon, 31 Mar 2025) EndedAt: 2025-03-31 17:20:55 -0400 (Mon, 31 Mar 2025) EllapsedTime: 48.1 seconds RetCode: 0 Status: OK PackageFile: gDR_1.4.1.tar.gz PackageFileSize: 277.4 KiB